BEGIN:VCALENDAR
VERSION:2.0
PRODID:-//Maungatapu School - ECPv4.6.26//NONSGML v1.0//EN
CALSCALE:GREGORIAN
METHOD:PUBLISH
X-WR-CALNAME:Maungatapu School
X-ORIGINAL-URL:https://www.maungatapu.school.nz
X-WR-CALDESC:Events for Maungatapu School
BEGIN:VEVENT
DTSTART;TZID=Pacific/Auckland:20181127T133000
DTEND;TZID=Pacific/Auckland:20181127T133000
DTSTAMP:20181224T080612
CREATED:20181104T030051Z
LAST-MODIFIED:20181104T030051Z
UID:690-1543325400-1543325400@www.maungatapu.school.nz
SUMMARY:Cool Bananas Christmas Concert (2)
DESCRIPTION:
URL:https://www.maungatapu.school.nz/event/cool-bananas-christmas-concert-2/
END:VEVENT
END:VCALENDAR