BEGIN:VCALENDAR
VERSION:2.0
PRODID:-//Maungatapu School - ECPv4.6.26//NONSGML v1.0//EN
CALSCALE:GREGORIAN
METHOD:PUBLISH
X-WR-CALNAME:Maungatapu School
X-ORIGINAL-URL:https://www.maungatapu.school.nz
X-WR-CALDESC:Events for Maungatapu School
BEGIN:VEVENT
DTSTART;TZID=Pacific/Auckland:20181211T170000
DTEND;TZID=Pacific/Auckland:20181211T170000
DTSTAMP:20181224T080744
CREATED:20181104T031509Z
LAST-MODIFIED:20181104T031509Z
UID:710-1544547600-1544547600@www.maungatapu.school.nz
SUMMARY:End of Year Christmas Concert
DESCRIPTION:
URL:https://www.maungatapu.school.nz/event/end-of-year-christmas-concert/
END:VEVENT
END:VCALENDAR