BEGIN:VCALENDAR
VERSION:2.0
PRODID:-//Maungatapu School - ECPv4.6.26//NONSGML v1.0//EN
CALSCALE:GREGORIAN
METHOD:PUBLISH
X-WR-CALNAME:Maungatapu School
X-ORIGINAL-URL:https://www.maungatapu.school.nz
X-WR-CALDESC:Events for Maungatapu School
BEGIN:VEVENT
DTSTART;TZID=Pacific/Auckland:20190131T083000
DTEND;TZID=Pacific/Auckland:20190131T120000
DTSTAMP:20181224T080333
CREATED:20181214T070041Z
LAST-MODIFIED:20181214T070041Z
UID:825-1548923400-1548936000@www.maungatapu.school.nz
SUMMARY:Enrolment day (office open 9 a.m. to 12 noon)
DESCRIPTION:
URL:https://www.maungatapu.school.nz/event/enrolment-day-office-open-9-a-m-to-12-noon/
END:VEVENT
END:VCALENDAR