BEGIN:VCALENDAR
VERSION:2.0
PRODID:-//Maungatapu School - ECPv4.6.26//NONSGML v1.0//EN
CALSCALE:GREGORIAN
METHOD:PUBLISH
X-WR-CALNAME:Maungatapu School
X-ORIGINAL-URL:https://www.maungatapu.school.nz
X-WR-CALDESC:Events for Maungatapu School
BEGIN:VEVENT
DTSTART;VALUE=DATE:20190206
DTEND;VALUE=DATE:20190207
DTSTAMP:20181224T080419
CREATED:20181214T070240Z
LAST-MODIFIED:20181214T070240Z
UID:829-1549411200-1549497599@www.maungatapu.school.nz
SUMMARY:Waitangi Day
DESCRIPTION:
URL:https://www.maungatapu.school.nz/event/waitangi-day/
END:VEVENT
END:VCALENDAR